BEGIN:VCALENDAR
VERSION:2.0
PRODID:-//GRIZZLY WATERS KAYAKING - ECPv6.15.20//NONSGML v1.0//EN
CALSCALE:GREGORIAN
METHOD:PUBLISH
X-WR-CALNAME:GRIZZLY WATERS KAYAKING
X-ORIGINAL-URL:https://grizzlywaters.com
X-WR-CALDESC:Events for GRIZZLY WATERS KAYAKING
REFRESH-INTERVAL;VALUE=DURATION:PT1H
X-Robots-Tag:noindex
X-PUBLISHED-TTL:PT1H
BEGIN:VTIMEZONE
TZID:UTC
BEGIN:STANDARD
TZOFFSETFROM:+0000
TZOFFSETTO:+0000
TZNAME:UTC
DTSTART:20210101T000000
END:STANDARD
END:VTIMEZONE
BEGIN:VEVENT
DTSTART;TZID=UTC:20220827T193000
DTEND;TZID=UTC:20220827T213000
DTSTAMP:20260419T161028
CREATED:20180924T214744Z
LAST-MODIFIED:20220810T203729Z
UID:610-1661628600-1661635800@grizzlywaters.com
SUMMARY:Sunset Paddle
DESCRIPTION:Catch one of the famous Suisun Marsh sunsets!
URL:https://grizzlywaters.com/event/sunset-paddle-7/
LOCATION:Grizzly Waters Kayaking\, Suisun Boat Ramp\, Suisun City\, CA\, 94585
CATEGORIES:Sunset Paddle
END:VEVENT
END:VCALENDAR